BEGIN:VCALENDAR
VERSION:2.0
PRODID:-//Webseite der Bürgergemeinschaft Kaldauen - ECPv6.13.1//NONSGML v1.0//EN
CALSCALE:GREGORIAN
METHOD:PUBLISH
X-ORIGINAL-URL:https://bg-kaldauen.de
X-WR-CALDESC:Veranstaltungen für Webseite der Bürgergemeinschaft Kaldauen
REFRESH-INTERVAL;VALUE=DURATION:PT1H
X-Robots-Tag:noindex
X-PUBLISHED-TTL:PT1H
BEGIN:VTIMEZONE
TZID:UTC
BEGIN:STANDARD
TZOFFSETFROM:+0000
TZOFFSETTO:+0000
TZNAME:UTC
DTSTART:20250101T000000
END:STANDARD
END:VTIMEZONE
BEGIN:VEVENT
DTSTART;TZID=UTC:20250302T000000
DTEND;TZID=UTC:20250302T235959
DTSTAMP:20260422T094558
CREATED:20250117T122209Z
LAST-MODIFIED:20250213T152403Z
UID:10438-1740873600-1740959999@bg-kaldauen.de
SUMMARY:Veedelszoch in Kaldauen
DESCRIPTION:Wir freuen uns auf viele Jecke am Straßenrand und genau so über viele Teilnehmer die unseren Veedelszoch (Karnevalszug) bereichern wollen. \n\n\n\nNeben der Organisation des Zuges stellt die BG Kaldauen auch eine Fußgruppe aus Ihren Mitgliedern die im Zug mit geht. \n\n\n\nNach dem Zug findet wieder die legendäre Kaldauer-After-Zoch-Party der Löschgruppe Kaldauen/Stallberg im Heinz-Böttner-Haus (Bürgerhaus) statt. Wir freuen uns\, viele Jecke nach dem Zug auf der Party zu sehen. \n\n\n\n\n\n\n\n \n\n\n\nAufstellung um 12:00 Uhr in der Lendersbergstrasse (Pappelallee – Im Donnerschlag) \n\n\n\nZugweg Lenderbergstrasse – Im Donnerschlag – Kningelbach – Lendersbergstrasse – Buchenweg – Hauptstrasse – Paul-Moog-Straße \n\n\n\nDer Prinzenwagen wird sich auf der Hauptstrasse im Bereich der Bushaltestelle „Kaldauen-Post“ in Richtung Seligenthal positionieren.  \n\n\n\nDie Auflösung des Zuges findet ab Hauptstraße/Paul-Moog-Straße in der Paul-Moog-Strasse statt.
URL:https://bg-kaldauen.de/kalender/veedelszoch-in-kaldauen/
LOCATION:Zugweg durch unser schönes Kaldauen\, Hauptstrasse\, Siegburg\, 53721
END:VEVENT
BEGIN:VEVENT
DTSTART;TZID=UTC:20250315T100000
DTEND;TZID=UTC:20250315T140000
DTSTAMP:20260422T094558
CREATED:20250117T122512Z
LAST-MODIFIED:20250306T105550Z
UID:10442-1742032800-1742047200@bg-kaldauen.de
SUMMARY:Stadtputztag
DESCRIPTION:Die BG Kaldauen nimmt wieder als eigene Gruppe am Stadtputztag der Stadt Siegburg teil. gemeinsam mit der ZWAR Gruppe Kaldauen wollen wir dabei für ein sauberes Kaldauen sorgen. \n\n\n\nTreffpunkt 10:00 Uhr\, Parkplatz vor dem Aldi im Kaldauer Zentrum \n\n\n\nHandschuhe\, Müllsäcke und Sammelzangen werden gestellt. \n\n\n\nUnsere teilnehmenden Mitglieder sind ab ca. 12:30 Uhr ins Heinz-Böttner-Haus (Bürgerhaus) zu einer kleinen Stärkung eingeladen. \n\n\n\nWir bitten um Anmeldung  \n\n\n\nper Email an: Aisling Scheer ( Aisling.scheer@bg-kaldauen.de ) \n\n\n\noder  \n\n\n\nper WhatsApp an: Herbert Kreuser ( 0157 – 82284049 )
URL:https://bg-kaldauen.de/kalender/stadtputztag/
LOCATION:Parkplatz vor dem Aldi (Treffpunkt)\, Hauptstrasse 57\, Siegburg\, 53721
END:VEVENT
BEGIN:VEVENT
DTSTART;TZID=UTC:20250319T000000
DTEND;TZID=UTC:20250319T235959
DTSTAMP:20260422T094558
CREATED:20250109T152120Z
LAST-MODIFIED:20250117T122643Z
UID:10412-1742342400-1742428799@bg-kaldauen.de
SUMMARY:Mitgliederversammlung BG Kaldauen
DESCRIPTION:Interne Veranstaltung für unsere Mitglieder.  \n\n\n\nEinladung erfolgt gesondert an unsere Mitglieder.
URL:https://bg-kaldauen.de/kalender/mitgliederversammlung-bg-kaldauen/
LOCATION:Heinz-Böttner-Haus (Bürgerhaus Kaldauen)\, Wahnbachtalstrasse 350\, Siegburg\, 53721
CATEGORIES:Bürgergemeinschaft Kaldauen e.V. - INTERN
END:VEVENT
BEGIN:VEVENT
DTSTART;TZID=UTC:20250322T090000
DTEND;TZID=UTC:20250322T235900
DTSTAMP:20260422T094558
CREATED:20250225T125215Z
LAST-MODIFIED:20250225T125219Z
UID:10551-1742634000-1742687940@bg-kaldauen.de
SUMMARY:Themenwanderung "Auf den Spuren der Landjuden an der Sieg" - Förderverein der DPSG Siegburg-Kaldauen e. V.
DESCRIPTION:Themenwanderung  \n\n\n\n„Auf den Spuren der Landjuden an der Sieg“ \n\n\n\n– Besichtigung der Gedenkstätte in Windeck-Rosbach – \n\n\n\nVeranstalter:  \n\n\n\nFörderverein der DPSG Siegburg-Kaldauen e.V. \n\n\n\nWeitere Infos entnehmen Sie bitte dem Flyer des Veranstalters. Dort finden Sie auch die Kontaktdaten zur Anmeldung oder für Ihre Rückfragen. \n\n\n\n \n\n\n\nPfadfinder_Wanderung Auf den Spuren der Landjuden an der Sieg_22.03.25Herunterladen
URL:https://bg-kaldauen.de/kalender/themenwanderung-auf-den-spuren-der-landjuden-an-der-sieg-foerderverein-der-dpsg-siegburg-kaldauen-e-v/
LOCATION:Liebfrauenkirche Siegburg/Kaldauen\, Antoniusweg 1\, Siegburg\, 53721
END:VEVENT
BEGIN:VEVENT
DTSTART;TZID=UTC:20250328T143000
DTEND;TZID=UTC:20250328T170000
DTSTAMP:20260422T094558
CREATED:20250310T083334Z
LAST-MODIFIED:20250324T130909Z
UID:10566-1743172200-1743181200@bg-kaldauen.de
SUMMARY:Kaldauer Frühlingsmarkt - Gemeinschaftsgrundschule Siegburg-Kaldauen
DESCRIPTION:Kaldauer Markt PlakatHerunterladen\n\n\n\n\n\n\n\nAuf dem Kaldauer Frühlingsmarkt präsentiert die Gemeinschaftsgrundschule Siegburg-Kaldauen Ihre Ergebnisse aus der Projektwoche (24.03.-28.03.25) mit Motto „Wir begrüßen den Frühling“.  \n\n\n\nAngeboten zum Verkauf werden mit viel Kreativität hergestellte Dinge. \n\n\n\nAlle interessierten sind herzlich eingeladen. \n\n\n\nEin Teil der Erlöse soll gespendet werden und ein anderer Teil für einen Aktionstag mit allen Kindern der Schule genutzt werden. \n\n\n\nBei Rückfragen wenden Sie sich bitte direkt an den Veranstalter: \n\n\n\nGemeinschaftsgrundschule Siegburg-Kaldauen \n\n\n\nSchulleiterin Renate Kubernus (Telefon 02241/102-6381)
URL:https://bg-kaldauen.de/kalender/kaldauer-fruehlingsmarkt-gemeinschaftsgrundschule-siegburg-kaldauen/
LOCATION:Gemeinschaftsgrundschule Siegburg-Kaldauen\, Friedensstraße 30\, Siegburg\, 53721
END:VEVENT
BEGIN:VEVENT
DTSTART;TZID=UTC:20250330T120000
DTEND;TZID=UTC:20250330T150000
DTSTAMP:20260422T094558
CREATED:20250219T122606Z
LAST-MODIFIED:20250219T124223Z
UID:10522-1743336000-1743346800@bg-kaldauen.de
SUMMARY:Workshop "Artenvielfalt auf den Flächen um Liebfrauen" - Erzbistum Köln (Projekt BICK)
DESCRIPTION:Workshop zur Artenvielfalt rund um die Kirche Liebfrauen.  \n\n\n\nNähere Informationen finden Sie auf dem Flyer des Veranstalters. \n\n\n\nBei Fragen zur Veranstaltung wenden Sie sich bitte an den Veranstalter (siehe Flyer) oder an die ZWAR Gruppe Kaldauen (Email: zwar-kaldauen@web.de ). \n\n\n\n\n\nVeranstalter: Erzbistum Köln (Projekt BICK) mit Unterstützung der Kirchengemeinde Sankt Servatius und der ZWAR Gruppe Kaldauen \n\n\n\nbick workshop artenvielfalt kaldauen liebfrauenHerunterladen\n\n\n\nWeitere Info zum Projekt Bick: \n\n\n\nErbistum Köln_bick Projekt_Liebfrauen KaldauenHerunterladen
URL:https://bg-kaldauen.de/kalender/workshop-artenvielfalt-auf-den-flaechen-um-liebfrauen/
LOCATION:Pfarrheim Liebfrauen\, Antoniusweg 1\, Siegburg\, 53721
END:VEVENT
END:VCALENDAR