BEGIN:VCALENDAR
VERSION:2.0
PRODID:-//Webseite der Bürgergemeinschaft Kaldauen - ECPv6.13.1//NONSGML v1.0//EN
CALSCALE:GREGORIAN
METHOD:PUBLISH
X-WR-CALNAME:Webseite der Bürgergemeinschaft Kaldauen
X-ORIGINAL-URL:https://bg-kaldauen.de
X-WR-CALDESC:Veranstaltungen für Webseite der Bürgergemeinschaft Kaldauen
REFRESH-INTERVAL;VALUE=DURATION:PT1H
X-Robots-Tag:noindex
X-PUBLISHED-TTL:PT1H
BEGIN:VTIMEZONE
TZID:UTC
BEGIN:STANDARD
TZOFFSETFROM:+0000
TZOFFSETTO:+0000
TZNAME:UTC
DTSTART:20250101T000000
END:STANDARD
END:VTIMEZONE
BEGIN:VEVENT
DTSTART;TZID=UTC:20250222T180000
DTEND;TZID=UTC:20250222T235900
DTSTAMP:20260422T110221
CREATED:20250221T082106Z
LAST-MODIFIED:20250221T082813Z
UID:10539-1740247200-1740268740@bg-kaldauen.de
SUMMARY:Veedelsparty der KG Rot Weiss Kaldauen e.V.
DESCRIPTION:Veedelsparty der KG Rot Weiss Kaldauen e.V.  \n\n\n\nIm Heinz-Böttner-Haus (Bürgerhaus Kaldauen) \n\n\n\nEinlass ab 18:00 Uhr \n\n\n\nBeginn um 19:30 Uhr \n\n\n\nEintritt 16\,00 € \n\n\n\nKartenbestellungen unter: tickets@rot-weiss-kaldauen.de \n\n\n\nFragen zur Veranstaltung richten Sie sich bitte an den Veranstalter: \n\n\n\nKG Rot Weiss Kaldauen e.V. \n\n\n\nOtmar Böttner  \n\n\n\notmar.boettner@gmx.de
URL:https://bg-kaldauen.de/kalender/veedelsparty-der-kg-rot-weiss-kaldauen-e-v/
LOCATION:Heinz-Böttner-Haus (Bürgerhaus Kaldauen)\, Wahnbachtalstrasse 350\, Siegburg\, 53721
END:VEVENT
BEGIN:VEVENT
DTSTART;TZID=UTC:20250226T140000
DTEND;TZID=UTC:20250226T190000
DTSTAMP:20260422T110221
CREATED:20250117T121627Z
LAST-MODIFIED:20250221T100529Z
UID:10434-1740578400-1740596400@bg-kaldauen.de
SUMMARY:Seniorensitzung der BG Kaldauen
DESCRIPTION:Die BG Kaldauen freut sich\, auch in diesem Jahr wieder\, mit einer Seniorensitzung das karnevalistische Programm in Kaldauen zu bereichern.  \n\n\n\nDie Veranstaltung ist öffentlich\, weitere Informationen sind unserem Plakat zu entnehmen:
URL:https://bg-kaldauen.de/kalender/seniorensitzung-in-kaldauen/
LOCATION:Pfarrheim Liebfrauen\, Antoniusweg 1\, Siegburg\, 53721
END:VEVENT
END:VCALENDAR