BEGIN:VCALENDAR
VERSION:2.0
PRODID:-//Webseite der Bürgergemeinschaft Kaldauen - ECPv6.13.1//NONSGML v1.0//EN
CALSCALE:GREGORIAN
METHOD:PUBLISH
X-ORIGINAL-URL:https://bg-kaldauen.de
X-WR-CALDESC:Veranstaltungen für Webseite der Bürgergemeinschaft Kaldauen
REFRESH-INTERVAL;VALUE=DURATION:PT1H
X-Robots-Tag:noindex
X-PUBLISHED-TTL:PT1H
BEGIN:VTIMEZONE
TZID:UTC
BEGIN:STANDARD
TZOFFSETFROM:+0000
TZOFFSETTO:+0000
TZNAME:UTC
DTSTART:20250101T000000
END:STANDARD
END:VTIMEZONE
BEGIN:VEVENT
DTSTART;TZID=UTC:20250119T110000
DTEND;TZID=UTC:20250119T140000
DTSTAMP:20260422T121758
CREATED:20250109T144649Z
LAST-MODIFIED:20250117T220007Z
UID:10389-1737284400-1737295200@bg-kaldauen.de
SUMMARY:Neujahrsempfang
DESCRIPTION:Wir laden zum Neujahrsempfang ins Heinz-Böttner-Haus nach Kaldauen ein.  \n\n\n\nDie Veranstaltung ist unseren Mitgliedern und geladenen Gästen vorbehalten. \n\n\n\nUnsere Mitglieder sind gebeten sich zur Veranstaltung anzumelden für eine bessere Planung der zu erwartenden Teilnehmer.
URL:https://bg-kaldauen.de/kalender/neujahrsempfang/
LOCATION:Heinz-Böttner-Haus (Bürgerhaus Kaldauen)\, Wahnbachtalstrasse 350\, Siegburg\, 53721
CATEGORIES:Bürgergemeinschaft Kaldauen e.V. - INTERN
END:VEVENT
END:VCALENDAR