BEGIN:VCALENDAR
VERSION:2.0
PRODID:-//Webseite der Bürgergemeinschaft Kaldauen - ECPv6.13.1//NONSGML v1.0//EN
CALSCALE:GREGORIAN
METHOD:PUBLISH
X-ORIGINAL-URL:https://bg-kaldauen.de
X-WR-CALDESC:Veranstaltungen für Webseite der Bürgergemeinschaft Kaldauen
REFRESH-INTERVAL;VALUE=DURATION:PT1H
X-Robots-Tag:noindex
X-PUBLISHED-TTL:PT1H
BEGIN:VTIMEZONE
TZID:UTC
BEGIN:STANDARD
TZOFFSETFROM:+0000
TZOFFSETTO:+0000
TZNAME:UTC
DTSTART:20250101T000000
END:STANDARD
END:VTIMEZONE
BEGIN:VEVENT
DTSTART;TZID=UTC:20250513T180000
DTEND;TZID=UTC:20250513T200000
DTSTAMP:20260422T083008
CREATED:20250509T092030Z
LAST-MODIFIED:20250509T092448Z
UID:11237-1747159200-1747166400@bg-kaldauen.de
SUMMARY:80 Jahre Weltkriegsende - Die Siegburger Kriegschronik Teil 2 - Geschichts- und Altertumsverein für Siegburg und den Rhein-Sieg-Kreis e.V.
DESCRIPTION:!!! DIESE VERANSTALTUNG FINDET NICHT IN KALDAUEN STATT !!! \n\n\n\n80 Jahre Weltkriegsende – Die Siegburger Kriegschronik Teil 2 \n\n\n\nVortrag des Geschichtsvereins \n\n\n\nKartonweise macht die Kriegschronik aus dem Stadtarchiv den Schrecken von 1939 bis 1945 nachvollziehbar. Der Geschichts- und Altertumsverein (GAV) hat sich des Konvoluts angenommen. Zehn Mitglieder beackerten zehn Themen: Zeitzeugenberichte\, Zwangsarbeiterschicksale\, Bombennächte\, Schule im Krieg – es sind Beschreibungen einer Siegburger Welt\, die ab Herbst 1944 gänzlich aus den Fugen gerät. Wortwörtlich bleibt kein Stein auf dem anderen\, bis die Freiheit am 9. und 10. April 1945 Einzug hält.  \n\n\n\nAn zwei Abenden stellt der Arbeitskreis Geschichte des GAV im Stadtmuseum die Essenzen der Kriegschronik und weiteres Anschauungsmaterial vor. Am Dienstag\, 13. Mai\, geht es in die zweite Runde. Beginn ist um 18 Uhr. \n\n\n\nDie Veranstaltungen stehen allen Siegburgerinnen und Siegburgern offen\, die sich nach genau 80 Jahren über die Vorgeschichte der Stunde Null informieren möchten. \n\n\n\nDie Veranstaltung nimmt auch Bezug zu Kaldauen. \n\n\n\nEintritt FREI \n\n\n\nBei Fragen wenden Sie sich bitte direkt an den Veranstalter  \n\n\n\nTel. 02241 / 1021282 \n\n\n\ngav@siegburg.de
URL:https://bg-kaldauen.de/kalender/80-jahre-weltkriegsende-die-siegburger-kriegschronik-teil-2-geschichts-und-altertumsverein-fuer-siegburg-und-den-rhein-sieg-kreis-e-v/
LOCATION:Stadtmuseum Siegburg\, Markt 46\, Siegburg\, 53721\, Germany
END:VEVENT
END:VCALENDAR